BEGIN:VCALENDAR
VERSION:2.0
PRODID:-//Suomen Münsterikerho ry - ECPv6.15.20//NONSGML v1.0//EN
CALSCALE:GREGORIAN
METHOD:PUBLISH
X-ORIGINAL-URL:https://munsterikerho.com/wp
X-WR-CALDESC:Tapahtumat Suomen Münsterikerho ry
REFRESH-INTERVAL;VALUE=DURATION:PT1H
X-Robots-Tag:noindex
X-PUBLISHED-TTL:PT1H
BEGIN:VTIMEZONE
TZID:Europe/Helsinki
BEGIN:DAYLIGHT
TZOFFSETFROM:+0200
TZOFFSETTO:+0300
TZNAME:EEST
DTSTART:20250330T010000
END:DAYLIGHT
BEGIN:STANDARD
TZOFFSETFROM:+0300
TZOFFSETTO:+0200
TZNAME:EET
DTSTART:20251026T010000
END:STANDARD
BEGIN:DAYLIGHT
TZOFFSETFROM:+0200
TZOFFSETTO:+0300
TZNAME:EEST
DTSTART:20260329T010000
END:DAYLIGHT
BEGIN:STANDARD
TZOFFSETFROM:+0300
TZOFFSETTO:+0200
TZNAME:EET
DTSTART:20261025T010000
END:STANDARD
BEGIN:DAYLIGHT
TZOFFSETFROM:+0200
TZOFFSETTO:+0300
TZNAME:EEST
DTSTART:20270328T010000
END:DAYLIGHT
BEGIN:STANDARD
TZOFFSETFROM:+0300
TZOFFSETTO:+0200
TZNAME:EET
DTSTART:20271031T010000
END:STANDARD
END:VTIMEZONE
BEGIN:VEVENT
DTSTART;VALUE=DATE:20261003
DTEND;VALUE=DATE:20261004
DTSTAMP:20260421T232619
CREATED:20260203T075210Z
LAST-MODIFIED:20260203T075221Z
UID:1018-1790985600-1791071999@munsterikerho.com
SUMMARY:Münsterimestaruuskoe 2026
DESCRIPTION:Lisätietoja kokeesta tulee myöhemmin.
URL:https://munsterikerho.com/wp/event/munsterimestaruuskoe-2026/
LOCATION:Kauhava\, Kauhava\, Finland
CATEGORIES:KAER-koe
END:VEVENT
BEGIN:VEVENT
DTSTART;VALUE=DATE:20261003
DTEND;VALUE=DATE:20261005
DTSTAMP:20260421T232619
CREATED:20260202T094608Z
LAST-MODIFIED:20260202T095029Z
UID:1007-1790985600-1791158399@munsterikerho.com
SUMMARY:Münsteripäivät 2026
DESCRIPTION:Suomen Münsterikerhon syypäiviä vietetään Kauhavalla 3.-4.10.2026.  \nLisätietoja tapahtumsta julkaistaan myöhemmin.
URL:https://munsterikerho.com/wp/event/munsteripaivat-2026/
LOCATION:Kauhava\, Kauhava\, Finland
CATEGORIES:münsteripäivät,syyspäivät
END:VEVENT
BEGIN:VEVENT
DTSTART;VALUE=DATE:20261010
DTEND;VALUE=DATE:20261011
DTSTAMP:20260421T232619
CREATED:20260203T075445Z
LAST-MODIFIED:20260203T075445Z
UID:1022-1791590400-1791676799@munsterikerho.com
SUMMARY:KAER F\, Eura
DESCRIPTION:Lisätietoja kokeesta tulee myöhemmin.
URL:https://munsterikerho.com/wp/event/kaer-f-eura/
LOCATION:Eura\, Eura\, Finland
CATEGORIES:KAER-koe
END:VEVENT
END:VCALENDAR