BEGIN:VCALENDAR
VERSION:2.0
PRODID:-//Suomen Münsterikerho ry - ECPv6.15.20//NONSGML v1.0//EN
CALSCALE:GREGORIAN
METHOD:PUBLISH
X-WR-CALNAME:Suomen Münsterikerho ry
X-ORIGINAL-URL:https://munsterikerho.com/wp
X-WR-CALDESC:Tapahtumat Suomen Münsterikerho ry
REFRESH-INTERVAL;VALUE=DURATION:PT1H
X-Robots-Tag:noindex
X-PUBLISHED-TTL:PT1H
BEGIN:VTIMEZONE
TZID:Europe/Helsinki
BEGIN:DAYLIGHT
TZOFFSETFROM:+0200
TZOFFSETTO:+0300
TZNAME:EEST
DTSTART:20250330T010000
END:DAYLIGHT
BEGIN:STANDARD
TZOFFSETFROM:+0300
TZOFFSETTO:+0200
TZNAME:EET
DTSTART:20251026T010000
END:STANDARD
BEGIN:DAYLIGHT
TZOFFSETFROM:+0200
TZOFFSETTO:+0300
TZNAME:EEST
DTSTART:20260329T010000
END:DAYLIGHT
BEGIN:STANDARD
TZOFFSETFROM:+0300
TZOFFSETTO:+0200
TZNAME:EET
DTSTART:20261025T010000
END:STANDARD
BEGIN:DAYLIGHT
TZOFFSETFROM:+0200
TZOFFSETTO:+0300
TZNAME:EEST
DTSTART:20270328T010000
END:DAYLIGHT
BEGIN:STANDARD
TZOFFSETFROM:+0300
TZOFFSETTO:+0200
TZNAME:EET
DTSTART:20271031T010000
END:STANDARD
END:VTIMEZONE
BEGIN:VEVENT
DTSTART;VALUE=DATE:20260420
DTEND;VALUE=DATE:20260518
DTSTAMP:20260421T155631
CREATED:20260226T074246Z
LAST-MODIFIED:20260329T091029Z
UID:1054-1776643200-1779062399@munsterikerho.com
SUMMARY:Virtuaalinen noutokilpailu 2026
DESCRIPTION:Aika: 20.4. – 17.5.2026 \nPaikka: Virtuaalinen treeni suljetussa Facebook-ryhmässä\, jonka tehtävät suoritetaan vaihtelevissa maastoissa peitteisestä avoimeen. \nLuokat: Untuvikot\, Sählärit\, Kisällit ja Mestarit – Voit ilmoittaa koirasi haluamaasi luokkaan\, mutta untuvikot on tarkoitettu alle 9 kuukauden ikäisille koirille ja sählärit on tarkoitettu alle kaksivuotiaille koirille. Haasta itseäsi ja koiraasi! \nJokaisessa luokassa tehtäviin tarvitaan erikokoisia noutoeläimiä tai -esineitä (1-4 kpl). Tehtäviin saattaa kuulua myös laukauksia. \nHinta: 10 €/koirakko\, joka maksetaan Suomen Münsterikerhon tilille FI25 1095 3000 1121 59 viimeistään 14.4.2026 viestillä: Noutokilpailu 2026\, ”osallistuvan koiran nimi”. \nIlmoittautuminen: Suomen Münsterikerhon nettisivujen kautta 30.3. – 13.4.2026 → https://forms.gle/YrP56gEB2iy49tM47 \nPalkinnot: Perinteinen noutokilpailun kiertopalkinto ja tuotepalkintoja. \nNoutokilpailun voittaja julkaistaan viikolla 21. Voittaja palkitaan Suomen Münsterikerhon syyspäivillä noutokilpailun kiertopalkinnolla lokakuussa 2026!
URL:https://munsterikerho.com/wp/event/virtuaalinen-noutokilpailu-2026/
LOCATION:Facebook
END:VEVENT
BEGIN:VEVENT
DTSTART;VALUE=DATE:20260509
DTEND;VALUE=DATE:20260510
DTSTAMP:20260421T155631
CREATED:20260215T094415Z
LAST-MODIFIED:20260216T085403Z
UID:1039-1778284800-1778371199@munsterikerho.com
SUMMARY:MEJÄ-kurssi
DESCRIPTION:MEJÄ-kurssi 9.5.2026\, Vuoskosken Paukun majalla (Peltolantie 75\, Kannonkoski). \nMITÄ MEJÄ ON? \nMEJÄ on koiraharrastus\, jossa harjoitellaan tilannetta missä haavoittunut riistaeläin on jäljitettävä. Koiran tehtävänä on seurata verijälkeä metsässä ja löytää kaato. Verijälki tehdään etukäteen ja sen pituus ja vaikeus vaihtelevat koeluokan mukaan. \nHarrastus on luonnonläheinen ja rauhallinen\, mutta vaatii koiralta keskittymistä ja ohjaajalta kärsivällisyyttä. Se kehittää koiran hajuaistia\, ongelmanratkaisukykyä ja vahvistaa yhteistyötä ohjaajan kanssa. MEJÄ sopii erityisesti kaikille metsästyskoirille\, mutta myös muille roduille\, jotka nauttivat nenän käytöstä ja luonnossa liikkumisesta. \nMEJÄ sopii monenlaiselle koiralle\, tarjoaa koiralle mielekästä tekemistä ja aktivoi koiraa henkisesti ja fyysisesti. \nKurssi sisältää teoria-osion\, jossa käydään läpi MEJÄ harrastuksena ja koemuotona\, sekä opetellaan kartan ja kompassin käyttöä. Teoriaosuuden jälkeen tutustutaan jälkien tekoon maastossa ja osallistuja pääsee tekemään tuorejälki-treenin oman koiransa kanssa. Kurssin jälkeen osaa toimia MEJÄ -kokeissa. Kurssille osallistuminen ei edellytä aiempaa MEJÄ -kokemusta ja sopii erityisesti aloittelijoille. \n\nMukaan mahtuu 10 koiraa. Hinta on Suomen Münsterikerhon jäsenelle 10e osallistuja. Lisätietoja ja ilmoittautumiset ottaa vastaan 25.4.2026 mennessä Keski-Suomen alueyhteyshenkilö Eveliina Pitkänen. Sähköposti: eveliina.pitkaenen@gmail.com\, puhelin ja viesti puh. 044-2907959. \nKurssipäivän aikataulu ja maksuohjeet tulevat lähempänä.
URL:https://munsterikerho.com/wp/event/meja-kurssi/
LOCATION:Kannonkoski\, Kannonkoski\, Finland
END:VEVENT
BEGIN:VEVENT
DTSTART;VALUE=DATE:20260527
DTEND;VALUE=DATE:20260528
DTSTAMP:20260421T155631
CREATED:20260313T054809Z
LAST-MODIFIED:20260313T054809Z
UID:1067-1779840000-1779926399@munsterikerho.com
SUMMARY:Webinaari: Koiran matka pennusta pellolle
DESCRIPTION:Tule kuuntelemaan Vesa Nummen webinaaria 27.5.2026. \nLisätietoja ja ilmoittautumisohjeet tulevat myöhemmin.
URL:https://munsterikerho.com/wp/event/webinaari-koiran-matka-pennusta-pellolle/
LOCATION:Microsoft Teams
END:VEVENT
END:VCALENDAR