BEGIN:VCALENDAR
VERSION:2.0
PRODID:-//Suomen Münsterikerho ry - ECPv6.15.20//NONSGML v1.0//EN
CALSCALE:GREGORIAN
METHOD:PUBLISH
X-ORIGINAL-URL:https://munsterikerho.com/wp
X-WR-CALDESC:Tapahtumat Suomen Münsterikerho ry
REFRESH-INTERVAL;VALUE=DURATION:PT1H
X-Robots-Tag:noindex
X-PUBLISHED-TTL:PT1H
BEGIN:VTIMEZONE
TZID:UTC
BEGIN:STANDARD
TZOFFSETFROM:+0000
TZOFFSETTO:+0000
TZNAME:UTC
DTSTART:20230101T000000
END:STANDARD
END:VTIMEZONE
BEGIN:VTIMEZONE
TZID:Europe/Helsinki
BEGIN:DAYLIGHT
TZOFFSETFROM:+0200
TZOFFSETTO:+0300
TZNAME:EEST
DTSTART:20230326T010000
END:DAYLIGHT
BEGIN:STANDARD
TZOFFSETFROM:+0300
TZOFFSETTO:+0200
TZNAME:EET
DTSTART:20231029T010000
END:STANDARD
BEGIN:DAYLIGHT
TZOFFSETFROM:+0200
TZOFFSETTO:+0300
TZNAME:EEST
DTSTART:20240331T010000
END:DAYLIGHT
BEGIN:STANDARD
TZOFFSETFROM:+0300
TZOFFSETTO:+0200
TZNAME:EET
DTSTART:20241027T010000
END:STANDARD
BEGIN:DAYLIGHT
TZOFFSETFROM:+0200
TZOFFSETTO:+0300
TZNAME:EEST
DTSTART:20250330T010000
END:DAYLIGHT
BEGIN:STANDARD
TZOFFSETFROM:+0300
TZOFFSETTO:+0200
TZNAME:EET
DTSTART:20251026T010000
END:STANDARD
END:VTIMEZONE
BEGIN:VEVENT
DTSTART;TZID=UTC:20240619T180000
DTEND;TZID=UTC:20240619T200000
DTSTAMP:20260421T125118
CREATED:20240611T054102Z
LAST-MODIFIED:20240614T150139Z
UID:431-1718820000-1718827200@munsterikerho.com
SUMMARY:Junnukoiran Junkkari ja ensimmäinen koekausi
DESCRIPTION:Ylituomari Vesa Nummi opastaa millaista osaamista koiraltasi edellytetään KAER-kokeen nuortenluokassa. Saat myös tietoa Junkkarista ja ohjeita sinne osallistuville. \nAikaa varataan myös keskustelulle ja kysymyksille \nVoit lähettää kysymyksiä myös ennakkoon ilmoittautumisen yhteydessä. \nWebinaari on tarkoitettu vain Suomen Münsterikerhon jäsenille. Ilmoittautumiset 18.6.2024 klo 18.00 mennessä -> https://forms.gle/wiLp5Hakd94gG2eVA
URL:https://munsterikerho.com/wp/event/junnukoiran-junkkari-ja-ensimmainen-koekausi/
LOCATION:Microsoft Teams
CATEGORIES:webinaari
END:VEVENT
BEGIN:VEVENT
DTSTART;VALUE=DATE:20240629
DTEND;VALUE=DATE:20240630
DTSTAMP:20260421T125118
CREATED:20240418T050754Z
LAST-MODIFIED:20240628T065309Z
UID:344-1719619200-1719705599@munsterikerho.com
SUMMARY:Keski-Suomen kesäpäivä
DESCRIPTION:Tule treenaamaan haulikkoammunttaa tylevan syksyn metsästysreissuja varten! Lajeina Skeet ja Trap. \nMolemmat radat ovat vain kerhon käytössä\, joten mahdollisuus harjoitella rauhassa\, omalla tahdilla tehden. Mukana ohjaamassa kokeneita ampujia\, joilta saa ohjeita ja neuvoja aseen käsittelyyn sekä itse ammuntaan. \nKierrosmaksu 5 e /kierros. Ratamaksu jaetaan osallistujien kesken. \nIlmoittautumiset 24.6.2024 mennessä eveliina.pitkaenen@gmail.com\, puh. 044 2907 959.
URL:https://munsterikerho.com/wp/event/keski-suomen-kesapaiva/
LOCATION:Jouhtisvuoren ampumarata\, Ampumaradantie 243\, Konnevesi\, 44300\, Finland
CATEGORIES:kesäpäivä
END:VEVENT
BEGIN:VEVENT
DTSTART;VALUE=DATE:20240630
DTEND;VALUE=DATE:20240701
DTSTAMP:20260421T125118
CREATED:20240418T051309Z
LAST-MODIFIED:20240614T150139Z
UID:350-1719705600-1719791999@munsterikerho.com
SUMMARY:Kesäpäivä - Etelä- Suomi\, Satakunta ja Varsinais-Suomi
DESCRIPTION:Satakunnan\, Varsinais-Suomen ja Etelä-Suomen yhteistä kesäpäivää vietetään sunnuntaina 30.6.2024 Kynäsjoen Eräpalvelun mailla Pomarkussa (osoite Harjuntie 45\, Pomarkku). \nAloitus: kello 10.00 (päivään voi tulla mukaan myöhemminkin) \nOhjelma: Tottelevaisuutta\, vesitöitä Kynäsjoessa ja noutoja maalla. Päivän aikana on mahdollisuus osallistua omakustanteiseen kyyhkytreeniin paikan omistajan\, Jari Vettenniemen\, ohjaamana. Kyyhkytreenin hinta on 50€/koirakko. Kyyhkyjen määrää ei ole rajoitettu ja niitä käytetään treeneissä koirakon tarpeen mukaan. \nPäivän hinta: 35 €/koirakko\, ilman koiraa 15 €/henkilö. Hintaan sisältyy tervetulokahvi ja voileipä; keittolounas (keitto\, leipä ja kahvi); kahvi ja pulla päivän päätteeksi \nIlmoittautuminen: Ilmoittautuminen 4.6.2024 mennessä jonnam.aro@gmail.com. Ilmoittautumisen yhteydessä pyydetään ilmoittamaan mahdolliset erityisruokavaliot. Päivä toteutetaan\, jos mukaan saadaan 10 koirakkoa. \nLisätiedot: Jonna Aro\, p. 044 522 3329 tai jonnam.aro@gmail.com \nNyt kaikki mukaan! TERVETULOA! \nTerveisin\nAlueyhdyshenkilöt\nPiia\, Jonna ja Knäppe
URL:https://munsterikerho.com/wp/event/kesapaiva-etela-suomi-satakunta-ja-varsinais-suomi/
LOCATION:Kynäsjoen Eräpalvelu\, Harjuntie 45\, Pomarkku\, 29680\, Finland
CATEGORIES:kesäpäivä
END:VEVENT
END:VCALENDAR