BEGIN:VCALENDAR
VERSION:2.0
PRODID:-//Suomen Münsterikerho ry - ECPv6.15.20//NONSGML v1.0//EN
CALSCALE:GREGORIAN
METHOD:PUBLISH
X-ORIGINAL-URL:https://munsterikerho.com/wp
X-WR-CALDESC:Tapahtumat Suomen Münsterikerho ry
REFRESH-INTERVAL;VALUE=DURATION:PT1H
X-Robots-Tag:noindex
X-PUBLISHED-TTL:PT1H
BEGIN:VTIMEZONE
TZID:Europe/Helsinki
BEGIN:DAYLIGHT
TZOFFSETFROM:+0200
TZOFFSETTO:+0300
TZNAME:EEST
DTSTART:20250330T010000
END:DAYLIGHT
BEGIN:STANDARD
TZOFFSETFROM:+0300
TZOFFSETTO:+0200
TZNAME:EET
DTSTART:20251026T010000
END:STANDARD
BEGIN:DAYLIGHT
TZOFFSETFROM:+0200
TZOFFSETTO:+0300
TZNAME:EEST
DTSTART:20260329T010000
END:DAYLIGHT
BEGIN:STANDARD
TZOFFSETFROM:+0300
TZOFFSETTO:+0200
TZNAME:EET
DTSTART:20261025T010000
END:STANDARD
BEGIN:DAYLIGHT
TZOFFSETFROM:+0200
TZOFFSETTO:+0300
TZNAME:EEST
DTSTART:20270328T010000
END:DAYLIGHT
BEGIN:STANDARD
TZOFFSETFROM:+0300
TZOFFSETTO:+0200
TZNAME:EET
DTSTART:20271031T010000
END:STANDARD
END:VTIMEZONE
BEGIN:VEVENT
DTSTART;TZID=Europe/Helsinki:20260418T170000
DTEND;TZID=Europe/Helsinki:20260418T190000
DTSTAMP:20260421T154826
CREATED:20260202T094332Z
LAST-MODIFIED:20260313T074957Z
UID:1004-1776531600-1776538800@munsterikerho.com
SUMMARY:Suomen Münsterikerhon vuosikokous 2026
DESCRIPTION:Suomen Münsterikerho ry:n sääntömääräinen vuosikokous pidetään Uudessakaupungissa\, lauantaina 18.4.2026 klo 17.00. \nPaikka:Hotelli Aquarius  \nKokouksessa käsitellään sääntömääräiset vuosikokousasiat. \nSUOMEN MÜNSTERIKERHON SÄÄNTÖMÄÄRÄINEN VUOSIKOKOUS \n\n KOKOUKSEN AVAUS\n LAILLISUUDEN JA PÄÄTÖSVALTAISUUDEN TOTEAMINEN\n KOKOUSVIRKAILIJOIDEN VALINTA\n TYÖJÄRJESTYKSEN HYVÄKSYMINEN\n KERHON VUOSIKERTOMUS JA VARAINHOITOKERTOMUS VUODELTA 2025\n TILI- JA VASTUUVAPAUDEN MYÖNTÄMINEN HALLITUKSELLE\n KERHON TOIMINTASUUNNITELMA JA TALOUSARVIO VUODELLE 2026 SEKÄ JÄSENMAKSUT VUOSILLE 2026 JA 2027\n HALLITUKSEN JÄSENTEN JA MUIDEN TOIMIHENKILÖIDEN VAALI EROVUOROSSA OLEVIEN TILALLE\n\n– puheenjohtaja\, erovuorossa Piia Perkkiö (käytettävissä) \n– kaksi varsinaista jäsentä\, erovuorossa Miikka Kirjalainen (ei käytettävissä) ja Eveliina Pitkänen (ei käytettävissä) \n– kaksi varajäsentä\, erovuorossa Jonna Aro (käytettävissä) ja Arto Kankkunen (käytettävissä) \n\n TOIMIKUNTIEN JÄSENTEN VAALI\n HALLITUKSEN VUOSIKOKOUKSELLE PÄÄTETTÄVÄKSI ESITTÄMÄT ASIAT\n MUUT MAHDOLLISET ASIAT\n ILMOITUSASIAT\n ANSIOITUNEIDEN KOIRIEN PALKITSEMINEN\n KOKOUKSEN PÄÄTTÄMINEN
URL:https://munsterikerho.com/wp/event/suomen-munsterikerhon-vuosikokous-2026/
LOCATION:Uusikaupunki\, Uusikaupunki\, Finland
CATEGORIES:vuosikokous
END:VEVENT
END:VCALENDAR