BEGIN:VCALENDAR
VERSION:2.0
PRODID:-//Suomen Münsterikerho ry - ECPv6.15.20//NONSGML v1.0//EN
CALSCALE:GREGORIAN
METHOD:PUBLISH
X-ORIGINAL-URL:https://munsterikerho.com/wp
X-WR-CALDESC:Tapahtumat Suomen Münsterikerho ry
REFRESH-INTERVAL;VALUE=DURATION:PT1H
X-Robots-Tag:noindex
X-PUBLISHED-TTL:PT1H
BEGIN:VTIMEZONE
TZID:Europe/Helsinki
BEGIN:DAYLIGHT
TZOFFSETFROM:+0200
TZOFFSETTO:+0300
TZNAME:EEST
DTSTART:20250330T010000
END:DAYLIGHT
BEGIN:STANDARD
TZOFFSETFROM:+0300
TZOFFSETTO:+0200
TZNAME:EET
DTSTART:20251026T010000
END:STANDARD
BEGIN:DAYLIGHT
TZOFFSETFROM:+0200
TZOFFSETTO:+0300
TZNAME:EEST
DTSTART:20260329T010000
END:DAYLIGHT
BEGIN:STANDARD
TZOFFSETFROM:+0300
TZOFFSETTO:+0200
TZNAME:EET
DTSTART:20261025T010000
END:STANDARD
BEGIN:DAYLIGHT
TZOFFSETFROM:+0200
TZOFFSETTO:+0300
TZNAME:EEST
DTSTART:20270328T010000
END:DAYLIGHT
BEGIN:STANDARD
TZOFFSETFROM:+0300
TZOFFSETTO:+0200
TZNAME:EET
DTSTART:20271031T010000
END:STANDARD
END:VTIMEZONE
BEGIN:VEVENT
DTSTART;VALUE=DATE:20260308
DTEND;VALUE=DATE:20260309
DTSTAMP:20260423T075609
CREATED:20260106T170021Z
LAST-MODIFIED:20260203T075850Z
UID:987-1772928000-1773014399@munsterikerho.com
SUMMARY:Koetoimitsijan lajikurssi (KAER)
DESCRIPTION:Suomen Münsterikerho järjestää 8.3.2026 Paimiossa koetoimitsijan lajikurssin (KAER). Kurssi järjestetään perinteisenä kurssina eli lähikurssina.  \nOsanottomaksu: 20 €\, Suomen Münsterikerhon jäsenille ilmainen\nTilinumero: FI25 1095 3000 1121 59 \nIlmoittautumiset: \n– 12.1. – 1.3.2026 aikana\n– Kennelliiton tapahtumakalenterin kautta tai\n– Vesa Nummi\, puh. 0405805963\, nummi.vesa@gmail.com \nHUOM!\nKoetoimitsijan lajikurssille osallistuminen vaatii hyväksytysti suoritetun koetoimitsijan peruskurssin.
URL:https://munsterikerho.com/wp/event/koetoimitsijan-lajikurssi-kaer/
LOCATION:Paimio\, Finland
CATEGORIES:kurssi
END:VEVENT
END:VCALENDAR