BEGIN:VCALENDAR
VERSION:2.0
PRODID:-//Suomen Münsterikerho ry - ECPv6.15.20//NONSGML v1.0//EN
CALSCALE:GREGORIAN
METHOD:PUBLISH
X-ORIGINAL-URL:https://munsterikerho.com/wp
X-WR-CALDESC:Tapahtumat Suomen Münsterikerho ry
REFRESH-INTERVAL;VALUE=DURATION:PT1H
X-Robots-Tag:noindex
X-PUBLISHED-TTL:PT1H
BEGIN:VTIMEZONE
TZID:Europe/Helsinki
BEGIN:DAYLIGHT
TZOFFSETFROM:+0200
TZOFFSETTO:+0300
TZNAME:EEST
DTSTART:20230326T010000
END:DAYLIGHT
BEGIN:STANDARD
TZOFFSETFROM:+0300
TZOFFSETTO:+0200
TZNAME:EET
DTSTART:20231029T010000
END:STANDARD
BEGIN:DAYLIGHT
TZOFFSETFROM:+0200
TZOFFSETTO:+0300
TZNAME:EEST
DTSTART:20240331T010000
END:DAYLIGHT
BEGIN:STANDARD
TZOFFSETFROM:+0300
TZOFFSETTO:+0200
TZNAME:EET
DTSTART:20241027T010000
END:STANDARD
BEGIN:DAYLIGHT
TZOFFSETFROM:+0200
TZOFFSETTO:+0300
TZNAME:EEST
DTSTART:20250330T010000
END:DAYLIGHT
BEGIN:STANDARD
TZOFFSETFROM:+0300
TZOFFSETTO:+0200
TZNAME:EET
DTSTART:20251026T010000
END:STANDARD
END:VTIMEZONE
BEGIN:VEVENT
DTSTART;VALUE=DATE:20240727
DTEND;VALUE=DATE:20240728
DTSTAMP:20260421T131713
CREATED:20240418T055506Z
LAST-MODIFIED:20240801T083300Z
UID:393-1722038400-1722124799@munsterikerho.com
SUMMARY:Pohjois-Karjalan kesäpäivä
DESCRIPTION:Kokoonnumme noin klo 9.30 Usin Erä-ukot metsästysmajalle (os. Suurenmäentie 13\, 83660 Varsilahti). \nKouluttajina toimivat: \n\nJari Suomalainen\nJari Venäläinen\nJuha Immonen\nJouni Penttinen\nSuvi-Tuulia Vilokkinen\n\nPääpaino koulutuksessa: vesityö ja nouto/tottelevaisuus. Tietysti nämä eivät ole kiveen hakattuja. Jos on ongelmia koiran kanssa\, pyrimme niihinkin ohjeistamaan ja keksimään ratkaisua. \nPäivään osallistujille muistilistaa: \n\nOmia eväitä kannattaa varata mukaan.\nSään mukainen varustus.\nReipasta ja hyvää kennelhenkeä\nKoulutuspilli\nKoiralle herkkuja\nNoutolintu/-esine\nNäyttelytalutin (jos haluat näyttelyohjeistusta)\n\nIlmoittautumiset: jouni.penttinen86@gmail.com\nOsallistumismaksu: 20€ tilille FI35 1305 3500 0151 48 tai Mobilepay numeroon 050 5760 107. Viestiksi: P-K munsteripäivä ja osallistujan nimi. \nIlmoittautumiset ja osallistumismaksu 20.7.2024 mennessä.  \nTervetuloa!
URL:https://munsterikerho.com/wp/event/pohjois-karjalan-kesapaiva/
LOCATION:Usin Erä-Ukot maja\, Suurenmäentie 13\, Varislahti\, 83660\, Finland
CATEGORIES:kesäpäivä
END:VEVENT
END:VCALENDAR