BEGIN:VCALENDAR
VERSION:2.0
PRODID:-//Suomen Münsterikerho ry - ECPv6.15.20//NONSGML v1.0//EN
CALSCALE:GREGORIAN
METHOD:PUBLISH
X-WR-CALNAME:Suomen Münsterikerho ry
X-ORIGINAL-URL:https://munsterikerho.com/wp
X-WR-CALDESC:Tapahtumat Suomen Münsterikerho ry
REFRESH-INTERVAL;VALUE=DURATION:PT1H
X-Robots-Tag:noindex
X-PUBLISHED-TTL:PT1H
BEGIN:VTIMEZONE
TZID:Europe/Helsinki
BEGIN:DAYLIGHT
TZOFFSETFROM:+0200
TZOFFSETTO:+0300
TZNAME:EEST
DTSTART:20230326T010000
END:DAYLIGHT
BEGIN:STANDARD
TZOFFSETFROM:+0300
TZOFFSETTO:+0200
TZNAME:EET
DTSTART:20231029T010000
END:STANDARD
BEGIN:DAYLIGHT
TZOFFSETFROM:+0200
TZOFFSETTO:+0300
TZNAME:EEST
DTSTART:20240331T010000
END:DAYLIGHT
BEGIN:STANDARD
TZOFFSETFROM:+0300
TZOFFSETTO:+0200
TZNAME:EET
DTSTART:20241027T010000
END:STANDARD
BEGIN:DAYLIGHT
TZOFFSETFROM:+0200
TZOFFSETTO:+0300
TZNAME:EEST
DTSTART:20250330T010000
END:DAYLIGHT
BEGIN:STANDARD
TZOFFSETFROM:+0300
TZOFFSETTO:+0200
TZNAME:EET
DTSTART:20251026T010000
END:STANDARD
END:VTIMEZONE
BEGIN:VEVENT
DTSTART;VALUE=DATE:20240706
DTEND;VALUE=DATE:20240708
DTSTAMP:20260421T113706
CREATED:20240418T051548Z
LAST-MODIFIED:20240614T150139Z
UID:355-1720224000-1720396799@munsterikerho.com
SUMMARY:Pohjois-Suomen kesäpäivä
DESCRIPTION:Suomen Münsterikerhon Pohjois-Suomen kesäpäivät 2024 järjestetään 6.-7.7.2024 Sodankylän Seipäjärvellä. \nKokoontuminen lauantaina Koranuskatveeseen\, Lankilantie 77\, Seipäjärvi. Mökissä yöpymismahdollisuus 6 hlölle\, mutta yöpyä voi myös teltassa. \nPäivien hintaan sisältyy majoitus\, sauna ja kahvit. Jos osallistujia tulee riittävästi\, voidaan hankkia myös muuta evästä. \nTreenataan yhdessä hallintaa\, noutoa sekä vesityötä yms. osallistujien toiveiden mukaan. Ota mukaan muutama noutolintu. \nOsallistumismaksu 20 €/hlö\, lapset ilmaiseksi. \nIlmoittautuminen + lisätietoja + maksuohjeet tiinaj.aikio@gmail.com\, puh. 040 8341 763. \nHUOM! Sunnuntaina 7.7.2024 mahdollisuus suorittaa vesityökoe (järjestäjä Lapin Mannermaiset kanakoirat ry). -> https://tietokanta.saksanseisojakerho.fi/kokeet/7-7-2024/1097
URL:https://munsterikerho.com/wp/event/pohjois-suomen-kesapaiva/
LOCATION:Seipäjärvi\, Lankilantie 77\, Sodankylä\, 99520\, Finland
CATEGORIES:kesäpäivä
END:VEVENT
END:VCALENDAR