BEGIN:VCALENDAR
VERSION:2.0
PRODID:-//Suomen Münsterikerho ry - ECPv6.15.20//NONSGML v1.0//EN
CALSCALE:GREGORIAN
METHOD:PUBLISH
X-ORIGINAL-URL:https://munsterikerho.com/wp
X-WR-CALDESC:Tapahtumat Suomen Münsterikerho ry
REFRESH-INTERVAL;VALUE=DURATION:PT1H
X-Robots-Tag:noindex
X-PUBLISHED-TTL:PT1H
BEGIN:VTIMEZONE
TZID:UTC
BEGIN:STANDARD
TZOFFSETFROM:+0000
TZOFFSETTO:+0000
TZNAME:UTC
DTSTART:20230101T000000
END:STANDARD
END:VTIMEZONE
BEGIN:VEVENT
DTSTART;TZID=UTC:20240619T180000
DTEND;TZID=UTC:20240619T200000
DTSTAMP:20260421T142630
CREATED:20240611T054102Z
LAST-MODIFIED:20240614T150139Z
UID:431-1718820000-1718827200@munsterikerho.com
SUMMARY:Junnukoiran Junkkari ja ensimmäinen koekausi
DESCRIPTION:Ylituomari Vesa Nummi opastaa millaista osaamista koiraltasi edellytetään KAER-kokeen nuortenluokassa. Saat myös tietoa Junkkarista ja ohjeita sinne osallistuville. \nAikaa varataan myös keskustelulle ja kysymyksille \nVoit lähettää kysymyksiä myös ennakkoon ilmoittautumisen yhteydessä. \nWebinaari on tarkoitettu vain Suomen Münsterikerhon jäsenille. Ilmoittautumiset 18.6.2024 klo 18.00 mennessä -> https://forms.gle/wiLp5Hakd94gG2eVA
URL:https://munsterikerho.com/wp/event/junnukoiran-junkkari-ja-ensimmainen-koekausi/
LOCATION:Microsoft Teams
CATEGORIES:webinaari
END:VEVENT
END:VCALENDAR