BEGIN:VCALENDAR
VERSION:2.0
PRODID:-//Suomen Münsterikerho ry - ECPv6.15.20//NONSGML v1.0//EN
CALSCALE:GREGORIAN
METHOD:PUBLISH
X-WR-CALNAME:Suomen Münsterikerho ry
X-ORIGINAL-URL:https://munsterikerho.com/wp
X-WR-CALDESC:Tapahtumat Suomen Münsterikerho ry
REFRESH-INTERVAL;VALUE=DURATION:PT1H
X-Robots-Tag:noindex
X-PUBLISHED-TTL:PT1H
BEGIN:VTIMEZONE
TZID:Europe/Moscow
BEGIN:STANDARD
TZOFFSETFROM:+0300
TZOFFSETTO:+0300
TZNAME:MSK
DTSTART:20230101T000000
END:STANDARD
END:VTIMEZONE
BEGIN:VEVENT
DTSTART;TZID=Europe/Moscow:20240421T100000
DTEND;TZID=Europe/Moscow:20240421T120000
DTSTAMP:20260421T172817
CREATED:20240408T094155Z
LAST-MODIFIED:20240614T150139Z
UID:215-1713693600-1713700800@munsterikerho.com
SUMMARY:Vuosikokous 2024
DESCRIPTION:Suomen Münsterikerho ry:n sääntömääräinen vuosikokous pidetään Kuopiossa sunnuntaina 21.4.2024 klo 10.00 Hotelli IsoValkeisen tiloissa. \nKokouksen jälkeen on ruokailu\, joka on ilmainen kokoukseen osallistuville Suomen Münsterikerhon jäsenille. Ilmoittaudu ruokailuun täältä -> https://forms.gle/CtPDbJj7Fb9XhXSUA \nTervetuloa!
URL:https://munsterikerho.com/wp/event/vuosikokous-2024/
LOCATION:Hotelli IsoValkeinen\, Majaniementie 2\, Kuopio\, Finland
END:VEVENT
END:VCALENDAR